BEGIN:VCALENDAR
VERSION:2.0
PRODID:-//Chef David Burke - ECPv6.13.2.1//NONSGML v1.0//EN
CALSCALE:GREGORIAN
METHOD:PUBLISH
X-ORIGINAL-URL:https://chefdavidburke.com
X-WR-CALDESC:Events for Chef David Burke
REFRESH-INTERVAL;VALUE=DURATION:PT1H
X-Robots-Tag:noindex
X-PUBLISHED-TTL:PT1H
BEGIN:VTIMEZONE
TZID:America/New_York
BEGIN:DAYLIGHT
TZOFFSETFROM:-0500
TZOFFSETTO:-0400
TZNAME:EDT
DTSTART:20260308T070000
END:DAYLIGHT
BEGIN:STANDARD
TZOFFSETFROM:-0400
TZOFFSETTO:-0500
TZNAME:EST
DTSTART:20261101T060000
END:STANDARD
END:VTIMEZONE
BEGIN:VEVENT
DTSTART;TZID=America/New_York:20260430T190000
DTEND;TZID=America/New_York:20260430T213000
DTSTAMP:20260425T115614
CREATED:20260424T213422Z
LAST-MODIFIED:20260424T214545Z
UID:10000898-1777575600-1777584600@chefdavidburke.com
SUMMARY:4/30 Raventos Wine Dinner at David Burke Tavern
DESCRIPTION:RAVENTOS + David Burke Tavern\nFive Course Dinner Pairing 6 Wines\nThursday\, April 30th\n7pm seated dinner\n$105 per person (+tax & service)\nTICKETS \nDavid Burke Tavern is excited to present the next wine dinner in our series for Spring 2026 – a chance to meet fellow wine lovers and try Chef’s creations not normally on the menu. \nRaventós Codorníu\, Spain’s oldest producer of Wines and Cavas. The company has a history spanning over five centuries\, dating back to 1551. Experience David Burke Tavern Chef’s Menu paired with delectable Spanish wine selections. Six wines will be poured\, made from different grape varietals presented with tasting notes at each course. \n\n“It’s like having dinner in my home… Intimate\, fun\, relaxing and delicious! Great connections\, Q & A session and some laughs!”\n– Chef David Burke\n\nMENU SUBJECT TO CHANGE
URL:https://chefdavidburke.com/event/4-30-raventos-wine-dinner/
LOCATION:David Burke Tavern\, 135 E. 62nd Street\, New York City\, NY\, 10065\, United States
CATEGORIES:Chef David Burke,DB Tavern Wine Dinners
ATTACH;FMTTYPE=image/jpeg:https://chefdavidburke.com/wp-content/uploads/2026/04/DBT-Ravntos-dinner-4-30-26-1080a-Dx2Ong.tmp_.jpg
ORGANIZER;CN="David Burke Tavern":MAILTO:info@davidburketavern.com
END:VEVENT
END:VCALENDAR