BEGIN:VCALENDAR
VERSION:2.0
PRODID:-//Chef David Burke - ECPv6.13.2.1//NONSGML v1.0//EN
CALSCALE:GREGORIAN
METHOD:PUBLISH
X-WR-CALNAME:Chef David Burke
X-ORIGINAL-URL:https://chefdavidburke.com
X-WR-CALDESC:Events for Chef David Burke
REFRESH-INTERVAL;VALUE=DURATION:PT1H
X-Robots-Tag:noindex
X-PUBLISHED-TTL:PT1H
BEGIN:VTIMEZONE
TZID:America/New_York
BEGIN:DAYLIGHT
TZOFFSETFROM:-0500
TZOFFSETTO:-0400
TZNAME:EDT
DTSTART:20230312T070000
END:DAYLIGHT
BEGIN:STANDARD
TZOFFSETFROM:-0400
TZOFFSETTO:-0500
TZNAME:EST
DTSTART:20231105T060000
END:STANDARD
END:VTIMEZONE
BEGIN:VEVENT
DTSTART;TZID=America/New_York:20231206T183000
DTEND;TZID=America/New_York:20231206T203000
DTSTAMP:20260419T220520
CREATED:20231025T202010Z
LAST-MODIFIED:20231025T202345Z
UID:10000490-1701887400-1701894600@chefdavidburke.com
SUMMARY:12/6 What’s Your Beef? Steakhouse Dinner by Chef David Burke
DESCRIPTION:Wednesday\, December 6\, 2023\n6:30pm seated dinner\nThree-course dinner\, 2 glasses House wine\n$70 per person \nTICKETS \nWhat’s your Beef? Classic Steakhouse Dinner Menu\n\nDB popover\, maple clothesline bacon\nSeasonal steakhouse salad\nA trio of New Jersey’s best premium beef (10oz)\, accompanied by Steakhouse SIDES\nDessert \n2 glasses of House wine!\n\nTickets must be purchased in advance.  A  20% service charge\, including gratuity will be added to final bill. \nChef’s Surprise: MENU TO BE ANNOUNCED
URL:https://chefdavidburke.com/event/12-6-whats-your-beef-steakhouse-dinner-by-chef-david-burke/
LOCATION:The LOFT in Red Horse by David Burke\, 26 Ridge Road\, Rumson\, NJ\, 07760\, United States
CATEGORIES:dinner,Steakhouse Dinners
ATTACH;FMTTYPE=image/jpeg:https://chefdavidburke.com/wp-content/uploads/2023/10/WYB_UpdatedGraphic-sEGoxQ.tmp_.jpg
ORGANIZER;CN="Red Horse by David Burke":MAILTO:hello@redhorsebydb.com
END:VEVENT
BEGIN:VEVENT
DTSTART;TZID=America/New_York:20231207T183000
DTEND;TZID=America/New_York:20231207T203000
DTSTAMP:20260419T220520
CREATED:20231025T202010Z
LAST-MODIFIED:20231025T202226Z
UID:10000491-1701973800-1701981000@chefdavidburke.com
SUMMARY:12/7 OMAKASE 10-Dish Menu
DESCRIPTION:Thursday\, December 7\, 2023\nSeating is at 6:30pm\n$85 per person \nTICKETS \nThe Loft at Red Horse \nOmakase-Style Dinner by Chef David Burke\n10-course dinner featuring chef’s specialties interwoven with unique offerings from our Sushi chef.\nDon’t miss this special omakase-style dinner featuring Wagyu and sushi\, a celebration of land and sea!\n \nThe cost of this very special evening is $85 per person\, plus tax.   Tickets must be purchased in advance.  A  20% service charge\, including gratuity will be added to final bill. \nChef’s Surprise: MENU TO BE ANNOUNCED\n(sample Omakase menu) \nSESAME NOODLE SALAD\npeanut\, scallions\, carrots & sprouts \nOCTOPUS\nwakame salad \nF1 WAGYU BAO\ncucumber slaw & plum sauce \nSABA MACKERAL\nscallion & sesame ginger \nPORK SOUP DUMPLING\nshrimp chip gremolata \nFRIED SOFTSHELL CRAB\nsweet eel sauce \nRAZOR CLAM\nthai curry risotto \nEEL & AVOCADO ROLL\nplantain & eel sauce \nRED ROAST RIBS & PRAWNS \nCHOCOLATE “PRETZEL BANANA”\nbanana semifreddo\, candied kumquats\, peanuts & passionfruit caramel \nDB CHEESECAKE LOLLIPOPS\nbubble gum whipped cream \nNote: Menu subject to change. Photos are examples Chefs’ creations from previous Omakase Dinners – cannot wait to see and taste what’s next! \n  \n\n\n\n				\n			\n\n\n\n				\n			\n\n\n\n				\n			\n\n 
URL:https://chefdavidburke.com/event/12-7-omakase-10-dish-menu/
LOCATION:The LOFT in Red Horse by David Burke\, 26 Ridge Road\, Rumson\, NJ\, 07760\, United States
CATEGORIES:dinner,Omakase
ATTACH;FMTTYPE=image/jpeg:https://chefdavidburke.com/wp-content/uploads/2022/11/Omakase_Oct-2022-3CQxW6.tmp_.jpg
ORGANIZER;CN="Red Horse by David Burke":MAILTO:hello@redhorsebydb.com
END:VEVENT
BEGIN:VEVENT
DTSTART;TZID=America/New_York:20231213T183000
DTEND;TZID=America/New_York:20231213T203000
DTSTAMP:20260419T220520
CREATED:20231025T202010Z
LAST-MODIFIED:20231025T202149Z
UID:10000492-1702492200-1702499400@chefdavidburke.com
SUMMARY:12/13 What’s Your Beef? Steakhouse Dinner by Chef David Burke
DESCRIPTION:Wednesday\, December 13\, 2023\n6:30pm seated dinner\nThree-course dinner\, 2 glasses House wine\n$70 per person \nTICKETS \nWhat’s your Beef? Classic Steakhouse Dinner Menu\n\nDB popover\, maple clothesline bacon\nSeasonal steakhouse salad\nA trio of New Jersey’s best premium beef (10oz)\, accompanied by Steakhouse SIDES\nDessert \n2 glasses of House wine!\n\nTickets must be purchased in advance.  A  20% service charge\, including gratuity will be added to final bill. \nChef’s Surprise: MENU TO BE ANNOUNCED
URL:https://chefdavidburke.com/event/12-13-whats-your-beef-steakhouse-dinner-by-chef-david-burke/
LOCATION:The LOFT in Red Horse by David Burke\, 26 Ridge Road\, Rumson\, NJ\, 07760\, United States
CATEGORIES:dinner,Steakhouse Dinners
ATTACH;FMTTYPE=image/jpeg:https://chefdavidburke.com/wp-content/uploads/2023/10/WYB_UpdatedGraphic-sEGoxQ.tmp_.jpg
ORGANIZER;CN="Red Horse by David Burke":MAILTO:hello@redhorsebydb.com
END:VEVENT
BEGIN:VEVENT
DTSTART;TZID=America/New_York:20231227T183000
DTEND;TZID=America/New_York:20231227T203000
DTSTAMP:20260419T220520
CREATED:20231222T215331Z
LAST-MODIFIED:20231222T220315Z
UID:10000514-1703701800-1703709000@chefdavidburke.com
SUMMARY:12/27 What’s Your Beef? Steakhouse Dinner by Chef David Burke
DESCRIPTION:Wednesday\, December 27\, 2023\n6:30pm seated dinner\nThree-course dinner\, 2 glasses House wine\n$70 per person \nTICKETS \nWhat’s your Beef? Classic Steakhouse Dinner Menu\n\nDB popover\, maple clothesline bacon\nSeasonal steakhouse salad\nA trio of New Jersey’s best premium beef (10oz)\, accompanied by Steakhouse SIDES\nDessert \n2 glasses of House wine!\n\nTickets must be purchased in advance.  A  20% service charge\, including gratuity will be added to final bill. \nChef’s Surprise: MENU TO BE ANNOUNCED
URL:https://chefdavidburke.com/event/12-27-whats-your-beef-steakhouse-dinner-by-chef-david-burke/
LOCATION:The LOFT in Red Horse by David Burke\, 26 Ridge Road\, Rumson\, NJ\, 07760\, United States
CATEGORIES:dinner,Steakhouse Dinners
ATTACH;FMTTYPE=image/jpeg:https://chefdavidburke.com/wp-content/uploads/2023/10/WYB_UpdatedGraphic-sEGoxQ.tmp_.jpg
ORGANIZER;CN="Red Horse by David Burke":MAILTO:hello@redhorsebydb.com
END:VEVENT
END:VCALENDAR