BEGIN:VCALENDAR
VERSION:2.0
PRODID:-//Chef David Burke - ECPv6.13.2.1//NONSGML v1.0//EN
CALSCALE:GREGORIAN
METHOD:PUBLISH
X-ORIGINAL-URL:https://chefdavidburke.com
X-WR-CALDESC:Events for Chef David Burke
REFRESH-INTERVAL;VALUE=DURATION:PT1H
X-Robots-Tag:noindex
X-PUBLISHED-TTL:PT1H
BEGIN:VTIMEZONE
TZID:America/New_York
BEGIN:DAYLIGHT
TZOFFSETFROM:-0500
TZOFFSETTO:-0400
TZNAME:EDT
DTSTART:20230312T070000
END:DAYLIGHT
BEGIN:STANDARD
TZOFFSETFROM:-0400
TZOFFSETTO:-0500
TZNAME:EST
DTSTART:20231105T060000
END:STANDARD
END:VTIMEZONE
BEGIN:VEVENT
DTSTART;TZID=America/New_York:20230201T183000
DTEND;TZID=America/New_York:20230201T203000
DTSTAMP:20260424T130027
CREATED:20230104T163144Z
LAST-MODIFIED:20230104T163355Z
UID:10000377-1675276200-1675283400@chefdavidburke.com
SUMMARY:2/1 What’s Your Beef? The original Steakhouse Dinner\, recreated by Chef David Burke
DESCRIPTION:Wednesday\, February 1\, 2022\n6:30pm light passed appetizers | 7 pm seated dinner\nThree-course dinner\, 2 glasses Red Horse wine\n$70 per person \nTICKETS\n\nThe Loft at Red Horse by David Burke \nWhat’s your Beef? Classic Steakhouse Dinner Menu transports you back to the time of muscle cars and disco\, featuring passed hors d’oeuvres\, a 70’s style chopped salad\, a trio of New Jersey’s best beef (10oz) + 2 glasses of Red Horse wine. \nNote: Disco attire not required. \nTickets must be purchased in advance.  A  20% service charge\, including gratuity will be added to final bill. \n\nChef’s Surprise: MENU TO BE ANNOUNCED\n(sample menus from the previous What’s Your Beef? Steakhouse Dinner) \n\n \n  \n  \nAppetizers \nCLOTHESLINE BACON \nPOPOVERS \nAUTUMN SALAD \nMain Course\nSHORT RIB + F1 HANGER STEAK +WAGYU STRIP \naccompanied by\nROASTED FENNEL AND MUSHROOMS\nCARAMEL SOY BRUSSELS SPROUTS\nSAVORY BRIOCHE & CORN PUDDING PURSES \nDessert\nPUMPKIN PIE
URL:https://chefdavidburke.com/event/2-1-whats-your-beef-the-original-steakhouse-dinner-recreated-by-chef-david-burke/
LOCATION:The LOFT in Red Horse by David Burke\, 26 Ridge Road\, Rumson\, NJ\, 07760\, United States
CATEGORIES:dinner,Steakhouse Dinners
ATTACH;FMTTYPE=image/jpeg:https://chefdavidburke.com/wp-content/uploads/2022/04/red-horse-whats-your-beef-by-chef-david-burke-g7MpeF.tmp_.jpg
ORGANIZER;CN="Red Horse by David Burke":MAILTO:hello@redhorsebydb.com
END:VEVENT
BEGIN:VEVENT
DTSTART;TZID=America/New_York:20230202T183000
DTEND;TZID=America/New_York:20230202T203000
DTSTAMP:20260424T130027
CREATED:20230104T163812Z
LAST-MODIFIED:20230104T163928Z
UID:10000378-1675362600-1675369800@chefdavidburke.com
SUMMARY:2/2 OMAKASE 10-Dish Menu
DESCRIPTION:Thursday\, February 2\, 2023\nSeating is at 6:30pm\n$85 per person \nTICKETS\n\nThe Loft at Red Horse \nOmakase-Style Dinner by Chef David Burke\n10-course dinner featuring chef’s specialties interwoven with unique offerings from our Sushi chef.\nDon’t miss this special omakase-style dinner featuring Wagyu and sushi\, a celebration of land and sea!\n \nThe cost of this very special evening is $85 per person\, plus tax.   Tickets must be purchased in advance.  A  20% service charge\, including gratuity will be added to final bill. \nChef’s Surprise: MENU TO BE ANNOUNCED\n(sample Omakase menu) \nSESAME NOODLE SALAD\npeanut\, scallions\, carrots & sprouts \nOCTOPUS\nwakame salad \nF1 WAGYU BAO\ncucumber slaw & plum sauce \nSABA MACKERAL\nscallion & sesame ginger \nPORK SOUP DUMPLING\nshrimp chip gremolata \nFRIED SOFTSHELL CRAB\nsweet eel sauce \nRAZOR CLAM\nthai curry risotto \nEEL & AVOCADO ROLL\nplantain & eel sauce \nRED ROAST RIBS & PRAWNS \nCHOCOLATE “PRETZEL BANANA”\nbanana semifreddo\, candied kumquats\, peanuts & passionfruit caramel \nDB CHEESECAKE LOLLIPOPS\nbubble gum whipped cream \nNote: Menu subject to change. Photos are examples Chefs’ creations from previous Omakase Dinners – cannot wait to see and taste what’s next! \n  \n\n\n\n				\n			\n\n\n\n				\n			\n\n\n\n				\n			\n\n 
URL:https://chefdavidburke.com/event/2-2-omakase-10-dish-menu/
LOCATION:The LOFT in Red Horse by David Burke\, 26 Ridge Road\, Rumson\, NJ\, 07760\, United States
CATEGORIES:dinner
ATTACH;FMTTYPE=image/jpeg:https://chefdavidburke.com/wp-content/uploads/2022/11/Omakase_Oct-2022-3CQxW6.tmp_.jpg
ORGANIZER;CN="Red Horse by David Burke":MAILTO:hello@redhorsebydb.com
END:VEVENT
BEGIN:VEVENT
DTSTART;TZID=America/New_York:20230208T183000
DTEND;TZID=America/New_York:20230208T203000
DTSTAMP:20260424T130027
CREATED:20230104T163812Z
LAST-MODIFIED:20230104T164050Z
UID:10000380-1675881000-1675888200@chefdavidburke.com
SUMMARY:2/8 What’s Your Beef? The original Steakhouse Dinner\, recreated by Chef David Burke
DESCRIPTION:Wednesday\, February 8\, 2022\n6:30pm light passed appetizers | 7 pm seated dinner\nThree-course dinner\, 2 glasses Red Horse wine\n$70 per person \nTICKETS\n\nThe Loft at Red Horse by David Burke \nWhat’s your Beef? Classic Steakhouse Dinner Menu transports you back to the time of muscle cars and disco\, featuring passed hors d’oeuvres\, a 70’s style chopped salad\, a trio of New Jersey’s best beef (10oz) + 2 glasses of Red Horse wine. \nNote: Disco attire not required. \nTickets must be purchased in advance.  A  20% service charge\, including gratuity will be added to final bill. \n\nChef’s Surprise: MENU TO BE ANNOUNCED\n(sample menus from the previous What’s Your Beef? Steakhouse Dinner) \n\n \n  \n  \nAppetizers \nCLOTHESLINE BACON \nPOPOVERS \nAUTUMN SALAD \nMain Course\nSHORT RIB + F1 HANGER STEAK +WAGYU STRIP \naccompanied by\nROASTED FENNEL AND MUSHROOMS\nCARAMEL SOY BRUSSELS SPROUTS\nSAVORY BRIOCHE & CORN PUDDING PURSES \nDessert\nPUMPKIN PIE
URL:https://chefdavidburke.com/event/2-8-whats-your-beef-the-original-steakhouse-dinner-recreated-by-chef-david-burke/
LOCATION:The LOFT in Red Horse by David Burke\, 26 Ridge Road\, Rumson\, NJ\, 07760\, United States
CATEGORIES:dinner,Steakhouse Dinners
ATTACH;FMTTYPE=image/jpeg:https://chefdavidburke.com/wp-content/uploads/2022/04/red-horse-whats-your-beef-by-chef-david-burke-g7MpeF.tmp_.jpg
ORGANIZER;CN="Red Horse by David Burke":MAILTO:hello@redhorsebydb.com
END:VEVENT
END:VCALENDAR