BEGIN:VCALENDAR
VERSION:2.0
PRODID:-//Chef David Burke - ECPv6.13.2.1//NONSGML v1.0//EN
CALSCALE:GREGORIAN
METHOD:PUBLISH
X-ORIGINAL-URL:https://chefdavidburke.com
X-WR-CALDESC:Events for Chef David Burke
REFRESH-INTERVAL;VALUE=DURATION:PT1H
X-Robots-Tag:noindex
X-PUBLISHED-TTL:PT1H
BEGIN:VTIMEZONE
TZID:America/New_York
BEGIN:DAYLIGHT
TZOFFSETFROM:-0500
TZOFFSETTO:-0400
TZNAME:EDT
DTSTART:20220313T070000
END:DAYLIGHT
BEGIN:STANDARD
TZOFFSETFROM:-0400
TZOFFSETTO:-0500
TZNAME:EST
DTSTART:20221106T060000
END:STANDARD
END:VTIMEZONE
BEGIN:VEVENT
DTSTART;TZID=America/New_York:20221201T183000
DTEND;TZID=America/New_York:20221201T203000
DTSTAMP:20260424T154438
CREATED:20221013T170120Z
LAST-MODIFIED:20221106T225622Z
UID:10000340-1669919400-1669926600@chefdavidburke.com
SUMMARY:12/1 OMAKASE 10-Dish Menu at Red Horse by David Burke
DESCRIPTION:Thursday\, December 1\, 2022\nSeating is at 6:30pm\n$85 per person\n \nTICKETS \nThe Loft at Red Horse \nOmakase-Style Dinner by Chef David Burke\n10-course dinner featuring chef’s specialties interwoven with unique offerings from our Sushi chef.\nDon’t miss this special omakase-style dinner featuring Wagyu and sushi\, a celebration of land and sea!\n \nThe cost of this very special evening is $85 per person\, plus tax.   Tickets must be purchased in advance.  A  20% service charge\, including gratuity will be added to final bill. \nChef’s Surprise: MENU TO BE ANNOUNCED\n(sample Omakase menu) \nSESAME NOODLE SALAD\npeanut\, scallions\, carrots & sprouts \nOCTOPUS\nwakame salad \nF1 WAGYU BAO\ncucumber slaw & plum sauce \nSABA MACKERAL\nscallion & sesame ginger \nPORK SOUP DUMPLING\nshrimp chip gremolata \nFRIED SOFTSHELL CRAB\nsweet eel sauce \nRAZOR CLAM\nthai curry risotto \nEEL & AVOCADO ROLL\nplantain & eel sauce \nRED ROAST RIBS & PRAWNS \nCHOCOLATE “PRETZEL BANANA”\nbanana semifreddo\, candied kumquats\, peanuts & passionfruit caramel \nDB CHEESECAKE LOLLIPOPS\nbubble gum whipped cream \nNote: Menu subject to change. Photos are examples Chefs’ creations from previous Omakase Dinners – cannot wait to see and taste what’s next! \n  \n\n\n\n\n\n\n\n\n\n\n\n 
URL:https://chefdavidburke.com/event/12-1-omakase-10-dish-menu/
LOCATION:The LOFT in Red Horse by David Burke\, 26 Ridge Road\, Rumson\, NJ\, 07760\, United States
CATEGORIES:dinner
ATTACH;FMTTYPE=image/jpeg:https://chefdavidburke.com/wp-content/uploads/2022/10/Omakase_Oct-2022.jpg
ORGANIZER;CN="Red Horse by David Burke":MAILTO:hello@redhorsebydb.com
END:VEVENT
BEGIN:VEVENT
DTSTART;TZID=America/New_York:20221207T183000
DTEND;TZID=America/New_York:20221207T203000
DTSTAMP:20260424T154438
CREATED:20221013T170120Z
LAST-MODIFIED:20221127T214518Z
UID:10000341-1670437800-1670445000@chefdavidburke.com
SUMMARY:12/7 What’s Your Beef? The original Steakhouse Dinner\, recreated by Chef David Burke
DESCRIPTION:Wednesday\, December 7\, 2022\n6:30pm light passed appetizers | 7 pm seated dinner\nThree-course dinner\, 2 glasses Red Horse wine\n$70 per person\nThe Loft at Red Horse by David Burke \n\nTICKETS\n \nWhat’s your Beef? Classic Steakhouse Dinner Menu transports you back to the time of muscle cars and disco\, featuring passed hors d’oeuvres\, a 70’s style chopped salad\, a trio of New Jersey’s best beef (10oz) + 2 glasses of Red Horse wine. \nNote: Disco attire not required. \nTickets must be purchased in advance.  A  20% service charge\, including gratuity will be added to final bill. \n\nChef’s Surprise: MENU TO BE ANNOUNCED\n(sample menu from the previous What’s Your Beef? Steakhouse Dinner) \nStarters\n\nPassed Hors D’oeuvres\nHouse made pickles\nPopovers\, Cornbread + Butter\n\nCourse 1\nTableside Chopped Salad\n\nCourse 2\n\nF1 Wagyu Ribeye\nBraised Short Rib\nFlank Steak Kabobs\nWhipped Potato\nBrussels Sprouts\nPeas+Carrots\nVegetable Fried Rice\n\nDessert\nRumson Raisin Bread Pudding\nWhite Chocolate Raspberry Ice Cream
URL:https://chefdavidburke.com/event/12-7-whats-your-beef-the-original-steakhouse-dinner-recreated-by-chef-david-burke/
LOCATION:The LOFT in Red Horse by David Burke\, 26 Ridge Road\, Rumson\, NJ\, 07760\, United States
CATEGORIES:dinner,Steakhouse Dinners
ATTACH;FMTTYPE=image/jpeg:https://chefdavidburke.com/wp-content/uploads/2022/04/red-horse-whats-your-beef-by-chef-david-burke-g7MpeF.tmp_.jpg
ORGANIZER;CN="Red Horse by David Burke":MAILTO:hello@redhorsebydb.com
END:VEVENT
BEGIN:VEVENT
DTSTART;TZID=America/New_York:20221214T183000
DTEND;TZID=America/New_York:20221214T203000
DTSTAMP:20260424T154438
CREATED:20221127T213953Z
LAST-MODIFIED:20221127T214442Z
UID:10000349-1671042600-1671049800@chefdavidburke.com
SUMMARY:12/14 What’s Your Beef? The original Steakhouse Dinner\, recreated by Chef David Burke
DESCRIPTION:Wednesday\, December 14\, 2022\n6:30pm light passed appetizers | 7 pm seated dinner\nThree-course dinner\, 2 glasses Red Horse wine\n$70 per person\nThe Loft at Red Horse by David Burke \n\nTICKETS\n \nWhat’s your Beef? Classic Steakhouse Dinner Menu transports you back to the time of muscle cars and disco\, featuring passed hors d’oeuvres\, a 70’s style chopped salad\, a trio of New Jersey’s best beef (10oz) + 2 glasses of Red Horse wine. \nNote: Disco attire not required. \nTickets must be purchased in advance.  A  20% service charge\, including gratuity will be added to final bill. \n\nChef’s Surprise: MENU TO BE ANNOUNCED\n(sample menu from the previous What’s Your Beef? Steakhouse Dinner) \nStarters\n\nPassed Hors D’oeuvres\nHouse made pickles\nPopovers\, Cornbread + Butter\n\nCourse 1\nTableside Chopped Salad\n\nCourse 2\n\nF1 Wagyu Ribeye\nBraised Short Rib\nFlank Steak Kabobs\nWhipped Potato\nBrussels Sprouts\nPeas+Carrots\nVegetable Fried Rice\n\nDessert\nRumson Raisin Bread Pudding\nWhite Chocolate Raspberry Ice Cream
URL:https://chefdavidburke.com/event/12-14-whats-your-beef-the-original-steakhouse-dinner-recreated-by-chef-david-burke/
LOCATION:The LOFT in Red Horse by David Burke\, 26 Ridge Road\, Rumson\, NJ\, 07760\, United States
CATEGORIES:dinner,Steakhouse Dinners
ATTACH;FMTTYPE=image/jpeg:https://chefdavidburke.com/wp-content/uploads/2022/04/red-horse-whats-your-beef-by-chef-david-burke-g7MpeF.tmp_.jpg
ORGANIZER;CN="Red Horse by David Burke":MAILTO:hello@redhorsebydb.com
END:VEVENT
BEGIN:VEVENT
DTSTART;TZID=America/New_York:20221221T183000
DTEND;TZID=America/New_York:20221221T203000
DTSTAMP:20260424T154438
CREATED:20221127T213953Z
LAST-MODIFIED:20221127T214403Z
UID:10000350-1671647400-1671654600@chefdavidburke.com
SUMMARY:12/21 What’s Your Beef? The original Steakhouse Dinner\, recreated by Chef David Burke
DESCRIPTION:Wednesday\, December 21\, 2022\n6:30pm light passed appetizers | 7 pm seated dinner\nThree-course dinner\, 2 glasses Red Horse wine\n$70 per person \nTICKETS\n\nThe Loft at Red Horse by David Burke \nWhat’s your Beef? Classic Steakhouse Dinner Menu transports you back to the time of muscle cars and disco\, featuring passed hors d’oeuvres\, a 70’s style chopped salad\, a trio of New Jersey’s best beef (10oz) + 2 glasses of Red Horse wine. \nNote: Disco attire not required. \nTickets must be purchased in advance.  A  20% service charge\, including gratuity will be added to final bill. \n\nChef’s Surprise: MENU TO BE ANNOUNCED\n(sample menu from the previous What’s Your Beef? Steakhouse Dinner) \nStarters\n\nPassed Hors D’oeuvres\nHouse made pickles\nPopovers\, Cornbread + Butter\n\nCourse 1\nTableside Chopped Salad\n\nCourse 2\n\nF1 Wagyu Ribeye\nBraised Short Rib\nFlank Steak Kabobs\nWhipped Potato\nBrussels Sprouts\nPeas+Carrots\nVegetable Fried Rice\n\nDessert\nRumson Raisin Bread Pudding\nWhite Chocolate Raspberry Ice Cream
URL:https://chefdavidburke.com/event/12-21-whats-your-beef-the-original-steakhouse-dinner-recreated-by-chef-david-burke/
LOCATION:The LOFT in Red Horse by David Burke\, 26 Ridge Road\, Rumson\, NJ\, 07760\, United States
CATEGORIES:dinner,Steakhouse Dinners
ATTACH;FMTTYPE=image/jpeg:https://chefdavidburke.com/wp-content/uploads/2022/04/red-horse-whats-your-beef-by-chef-david-burke-g7MpeF.tmp_.jpg
ORGANIZER;CN="Red Horse by David Burke":MAILTO:hello@redhorsebydb.com
END:VEVENT
BEGIN:VEVENT
DTSTART;TZID=America/New_York:20221228T183000
DTEND;TZID=America/New_York:20221228T203000
DTSTAMP:20260424T154438
CREATED:20221127T213953Z
LAST-MODIFIED:20221127T214322Z
UID:10000351-1672252200-1672259400@chefdavidburke.com
SUMMARY:12/28 What’s Your Beef? The original Steakhouse Dinner\, recreated by Chef David Burke
DESCRIPTION:Wednesday\, December 28\, 2022\n6:30pm light passed appetizers | 7 pm seated dinner\nThree-course dinner\, 2 glasses Red Horse wine\n$70 per person \nTICKETS\n\nThe Loft at Red Horse by David Burke \nWhat’s your Beef? Classic Steakhouse Dinner Menu transports you back to the time of muscle cars and disco\, featuring passed hors d’oeuvres\, a 70’s style chopped salad\, a trio of New Jersey’s best beef (10oz) + 2 glasses of Red Horse wine. \nNote: Disco attire not required. \nTickets must be purchased in advance.  A  20% service charge\, including gratuity will be added to final bill. \n\nChef’s Surprise: MENU TO BE ANNOUNCED\n(sample menu from the previous What’s Your Beef? Steakhouse Dinner) \nStarters\n\nPassed Hors D’oeuvres\nHouse made pickles\nPopovers\, Cornbread + Butter\n\nCourse 1\nTableside Chopped Salad\n\nCourse 2\n\nF1 Wagyu Ribeye\nBraised Short Rib\nFlank Steak Kabobs\nWhipped Potato\nBrussels Sprouts\nPeas+Carrots\nVegetable Fried Rice\n\nDessert\nRumson Raisin Bread Pudding\nWhite Chocolate Raspberry Ice Cream
URL:https://chefdavidburke.com/event/12-28-whats-your-beef-the-original-steakhouse-dinner-recreated-by-chef-david-burke/
LOCATION:The LOFT in Red Horse by David Burke\, 26 Ridge Road\, Rumson\, NJ\, 07760\, United States
CATEGORIES:dinner,Steakhouse Dinners
ATTACH;FMTTYPE=image/jpeg:https://chefdavidburke.com/wp-content/uploads/2022/04/red-horse-whats-your-beef-by-chef-david-burke-g7MpeF.tmp_.jpg
ORGANIZER;CN="Red Horse by David Burke":MAILTO:hello@redhorsebydb.com
END:VEVENT
END:VCALENDAR