BEGIN:VCALENDAR
VERSION:2.0
PRODID:-//Chef David Burke - ECPv6.13.2.1//NONSGML v1.0//EN
CALSCALE:GREGORIAN
METHOD:PUBLISH
X-ORIGINAL-URL:https://chefdavidburke.com
X-WR-CALDESC:Events for Chef David Burke
REFRESH-INTERVAL;VALUE=DURATION:PT1H
X-Robots-Tag:noindex
X-PUBLISHED-TTL:PT1H
BEGIN:VTIMEZONE
TZID:America/New_York
BEGIN:DAYLIGHT
TZOFFSETFROM:-0500
TZOFFSETTO:-0400
TZNAME:EDT
DTSTART:20220313T070000
END:DAYLIGHT
BEGIN:STANDARD
TZOFFSETFROM:-0400
TZOFFSETTO:-0500
TZNAME:EST
DTSTART:20221106T060000
END:STANDARD
END:VTIMEZONE
BEGIN:VEVENT
DTSTART;TZID=America/New_York:20220803T183000
DTEND;TZID=America/New_York:20220803T203000
DTSTAMP:20260424T210037
CREATED:20220721T182914Z
LAST-MODIFIED:20220721T183002Z
UID:10000307-1659551400-1659558600@chefdavidburke.com
SUMMARY:8/03 What’s Your Beef? The original Steakhouse Dinner\, recreated by Chef David Burke
DESCRIPTION:Wednesday\, August 3\, 2022\n6:30pm light passed appetizers | 7 pm seated dinner\nThree-course dinner\, 2 glasses Red Horse wine\n$70 per person\nThe Loft at Red Horse by David Burke \nTICKETS\n \nWhat’s your Beef? Classic Steakhouse Dinner Menu transports you back to the time of muscle cars and disco\, featuring passed hors d’oeuvres\, a 70’s style chopped salad\, a trio of New Jersey’s best beef (10oz) + 2 glasses of Red Horse wine. \nNote: Disco attire not required. \nTickets must be purchased in advance.  A  20% service charge\, including gratuity will be added to final bill. \n\nChef’s Surprise: MENU TO BE ANNOUNCED\n(sample menu from the previous What’s Your Beef? Steakhouse Dinner) \nStarters\n\nPassed Hors D’oeuvres\nHouse made pickles\nPopovers\, Cornbread + Butter\n\nCourse 1\nTableside Chopped Salad\n\nCourse 2\n\nF1 Wagyu Ribeye\nBraised Short Rib\nFlank Steak Kabobs\nWhipped Potato\nBrussels Sprouts\nPeas+Carrots\nVegetable Fried Rice\n\nDessert\nRumson Raisin Bread Pudding\nWhite Chocolate Raspberry Ice Cream
URL:https://chefdavidburke.com/event/8-03-whats-your-beef-the-original-steakhouse-dinner-recreated-by-chef-david-burke/
LOCATION:The LOFT in Red Horse by David Burke\, 26 Ridge Road\, Rumson\, NJ\, 07760\, United States
CATEGORIES:dinner,Steakhouse Dinners
ATTACH;FMTTYPE=image/jpeg:https://chefdavidburke.com/wp-content/uploads/2022/04/red-horse-whats-your-beef-by-chef-david-burke-g7MpeF.tmp_.jpg
ORGANIZER;CN="Red Horse by David Burke":MAILTO:hello@redhorsebydb.com
END:VEVENT
BEGIN:VEVENT
DTSTART;TZID=America/New_York:20220810T183000
DTEND;TZID=America/New_York:20220810T203000
DTSTAMP:20260424T210037
CREATED:20220721T182914Z
LAST-MODIFIED:20220721T183043Z
UID:10000308-1660156200-1660163400@chefdavidburke.com
SUMMARY:8/10 What’s Your Beef? The original Steakhouse Dinner\, recreated by Chef David Burke
DESCRIPTION:Wednesday\, August 10\, 2022\n6:30pm light passed appetizers | 7 pm seated dinner\nThree-course dinner\, 2 glasses Red Horse wine\n$70 per person\nThe Loft at Red Horse by David Burke \nTICKETS\n \nWhat’s your Beef? Classic Steakhouse Dinner Menu transports you back to the time of muscle cars and disco\, featuring passed hors d’oeuvres\, a 70’s style chopped salad\, a trio of New Jersey’s best beef (10oz) + 2 glasses of Red Horse wine. \nNote: Disco attire not required. \nTickets must be purchased in advance.  A  20% service charge\, including gratuity will be added to final bill. \n\nChef’s Surprise: MENU TO BE ANNOUNCED\n(sample menu from the previous What’s Your Beef? Steakhouse Dinner) \nStarters\n\nPassed Hors D’oeuvres\nHouse made pickles\nPopovers\, Cornbread + Butter\n\nCourse 1\nTableside Chopped Salad\n\nCourse 2\n\nF1 Wagyu Ribeye\nBraised Short Rib\nFlank Steak Kabobs\nWhipped Potato\nBrussels Sprouts\nPeas+Carrots\nVegetable Fried Rice\n\nDessert\nRumson Raisin Bread Pudding\nWhite Chocolate Raspberry Ice Cream
URL:https://chefdavidburke.com/event/8-10-whats-your-beef-the-original-steakhouse-dinner-recreated-by-chef-david-burke/
LOCATION:The LOFT in Red Horse by David Burke\, 26 Ridge Road\, Rumson\, NJ\, 07760\, United States
CATEGORIES:dinner,Steakhouse Dinners
ATTACH;FMTTYPE=image/jpeg:https://chefdavidburke.com/wp-content/uploads/2022/04/red-horse-whats-your-beef-by-chef-david-burke-g7MpeF.tmp_.jpg
ORGANIZER;CN="Red Horse by David Burke":MAILTO:hello@redhorsebydb.com
END:VEVENT
BEGIN:VEVENT
DTSTART;TZID=America/New_York:20220817T183000
DTEND;TZID=America/New_York:20220817T203000
DTSTAMP:20260424T210037
CREATED:20220721T182914Z
LAST-MODIFIED:20220721T183116Z
UID:10000309-1660761000-1660768200@chefdavidburke.com
SUMMARY:8/17 What’s Your Beef? The original Steakhouse Dinner\, recreated by Chef David Burke
DESCRIPTION:Wednesday\, August 17\, 2022\n6:30pm light passed appetizers | 7 pm seated dinner\nThree-course dinner\, 2 glasses Red Horse wine\n$70 per person\nThe Loft at Red Horse by David Burke \nTICKETS\n \nWhat’s your Beef? Classic Steakhouse Dinner Menu transports you back to the time of muscle cars and disco\, featuring passed hors d’oeuvres\, a 70’s style chopped salad\, a trio of New Jersey’s best beef (10oz) + 2 glasses of Red Horse wine. \nNote: Disco attire not required. \nTickets must be purchased in advance.  A  20% service charge\, including gratuity will be added to final bill. \n\nChef’s Surprise: MENU TO BE ANNOUNCED\n(sample menu from the previous What’s Your Beef? Steakhouse Dinner) \nStarters\n\nPassed Hors D’oeuvres\nHouse made pickles\nPopovers\, Cornbread + Butter\n\nCourse 1\nTableside Chopped Salad\n\nCourse 2\n\nF1 Wagyu Ribeye\nBraised Short Rib\nFlank Steak Kabobs\nWhipped Potato\nBrussels Sprouts\nPeas+Carrots\nVegetable Fried Rice\n\nDessert\nRumson Raisin Bread Pudding\nWhite Chocolate Raspberry Ice Cream
URL:https://chefdavidburke.com/event/8-17-whats-your-beef-the-original-steakhouse-dinner-recreated-by-chef-david-burke/
LOCATION:The LOFT in Red Horse by David Burke\, 26 Ridge Road\, Rumson\, NJ\, 07760\, United States
CATEGORIES:dinner,Steakhouse Dinners
ATTACH;FMTTYPE=image/jpeg:https://chefdavidburke.com/wp-content/uploads/2022/04/red-horse-whats-your-beef-by-chef-david-burke-g7MpeF.tmp_.jpg
ORGANIZER;CN="Red Horse by David Burke":MAILTO:hello@redhorsebydb.com
END:VEVENT
BEGIN:VEVENT
DTSTART;TZID=America/New_York:20220824T183000
DTEND;TZID=America/New_York:20220824T203000
DTSTAMP:20260424T210037
CREATED:20220721T182915Z
LAST-MODIFIED:20220721T183148Z
UID:10000310-1661365800-1661373000@chefdavidburke.com
SUMMARY:8/24 What’s Your Beef? The original Steakhouse Dinner\, recreated by Chef David Burke
DESCRIPTION:Wednesday\, August 24\, 2022\n6:30pm light passed appetizers | 7 pm seated dinner\nThree-course dinner\, 2 glasses Red Horse wine\n$70 per person\nThe Loft at Red Horse by David Burke \nTICKETS\n \nWhat’s your Beef? Classic Steakhouse Dinner Menu transports you back to the time of muscle cars and disco\, featuring passed hors d’oeuvres\, a 70’s style chopped salad\, a trio of New Jersey’s best beef (10oz) + 2 glasses of Red Horse wine. \nNote: Disco attire not required. \nTickets must be purchased in advance.  A  20% service charge\, including gratuity will be added to final bill. \n\nChef’s Surprise: MENU TO BE ANNOUNCED\n(sample menu from the previous What’s Your Beef? Steakhouse Dinner) \nStarters\n\nPassed Hors D’oeuvres\nHouse made pickles\nPopovers\, Cornbread + Butter\n\nCourse 1\nTableside Chopped Salad\n\nCourse 2\n\nF1 Wagyu Ribeye\nBraised Short Rib\nFlank Steak Kabobs\nWhipped Potato\nBrussels Sprouts\nPeas+Carrots\nVegetable Fried Rice\n\nDessert\nRumson Raisin Bread Pudding\nWhite Chocolate Raspberry Ice Cream
URL:https://chefdavidburke.com/event/8-24-whats-your-beef-the-original-steakhouse-dinner-recreated-by-chef-david-burke/
LOCATION:The LOFT in Red Horse by David Burke\, 26 Ridge Road\, Rumson\, NJ\, 07760\, United States
CATEGORIES:dinner,Steakhouse Dinners
ATTACH;FMTTYPE=image/jpeg:https://chefdavidburke.com/wp-content/uploads/2022/04/red-horse-whats-your-beef-by-chef-david-burke-g7MpeF.tmp_.jpg
ORGANIZER;CN="Red Horse by David Burke":MAILTO:hello@redhorsebydb.com
END:VEVENT
BEGIN:VEVENT
DTSTART;TZID=America/New_York:20220825T183000
DTEND;TZID=America/New_York:20220825T213000
DTSTAMP:20260424T210037
CREATED:20220729T174007Z
LAST-MODIFIED:20220818T161417Z
UID:10000311-1661452200-1661463000@chefdavidburke.com
SUMMARY:8/25 JB Neufeld 5-Course Wine Dinner
DESCRIPTION:Thursday\, August 25\, 2022\n6:30pm light passed appetizers & sparkling wine upon arrival\n7 pm seated dinner\nThe Loft at Red Horse\n \n$160 per person (plus tax)\nTickets must be purchased in advance.  A  20% service charge\, including gratuity will be added to final bill. \nTICKETS\n \n“JB Neufeld X Red Horse by David Burke”\n5-Course Wine Dinner\n—\nCourse The First\nJersey Tomatoes and Plums\nCashews\, ricotta\, thai basil on polenta foccacia\nFeaturing JB Neufeld Sauvignon Blanc 2021 \n—\nCourse The Second\nWaygu Tartar\nQuail Egg Salad\, Fermented Fennel\, Nicoise Olive Crumble\nFeaturing JB Neufeld Yakima Red 2018 \n—\nCourse The Third\nCorn Agnolotti\nPoached Lobster\, Heirloom Tomato sauce\nFeaturing JB Neufeld Yakima Valley Cabernet Sauvignon 2019 \n—\nCourse The Fourth\nSmoked Duck\nMole\, Burnt Corn\, Pickled Fruit\nFeaturing JB Neufeld Ciel Du Cheval 2019 \n—\nCourse The Fifth\nChocolate Souffle\nFeaturing JB Neufeld “Old Goat” Cabernet Sauvignon
URL:https://chefdavidburke.com/event/8-25-jb-neufeld-5-course-wine-dinner/
LOCATION:The LOFT in Red Horse by David Burke\, 26 Ridge Road\, Rumson\, NJ\, 07760\, United States
CATEGORIES:dinner,Steakhouse Dinners
ATTACH;FMTTYPE=image/jpeg:https://chefdavidburke.com/wp-content/uploads/2022/07/jb-neufeld-x-red-horse-by-david-burke-horizontal-scaled-7HXcwq.tmp_.jpg
ORGANIZER;CN="Red Horse by David Burke":MAILTO:hello@redhorsebydb.com
END:VEVENT
BEGIN:VEVENT
DTSTART;TZID=America/New_York:20220831T183000
DTEND;TZID=America/New_York:20220831T203000
DTSTAMP:20260424T210037
CREATED:20220729T174347Z
LAST-MODIFIED:20220729T174602Z
UID:10000312-1661970600-1661977800@chefdavidburke.com
SUMMARY:8/31 What’s Your Beef? The original Steakhouse Dinner\, recreated by Chef David Burke
DESCRIPTION:Wednesday\, August 31\, 2022\n6:30pm light passed appetizers | 7 pm seated dinner\nThree-course dinner\, 2 glasses Red Horse wine\n$70 per person\nThe Loft at Red Horse by David Burke \nTICKETS\n \nWhat’s your Beef? Classic Steakhouse Dinner Menu transports you back to the time of muscle cars and disco\, featuring passed hors d’oeuvres\, a 70’s style chopped salad\, a trio of New Jersey’s best beef (10oz) + 2 glasses of Red Horse wine. \nNote: Disco attire not required. \nTickets must be purchased in advance.  A 20% service charge\, including gratuity will be added to final bill. \ndiv class=”gmail_default”> \nChef’s Surprise: MENU TO BE ANNOUNCED\n(sample menu from the previous What’s Your Beef? Steakhouse Dinner) \nStarters\n\nPassed Hors D’oeuvres\nHouse made pickles\nPopovers\, Cornbread + Butter\n\nCourse 1\nTableside Chopped Salad\n\nCourse 2\n\nF1 Wagyu Ribeye\nBraised Short Rib\nFlank Steak Kabobs\nWhipped Potato\nBrussels Sprouts\nPeas+Carrots\nVegetable Fried Rice\n\nDessert\nRumson Raisin Bread Pudding\nWhite Chocolate Raspberry Ice Cream
URL:https://chefdavidburke.com/event/8-31-whats-your-beef-the-original-steakhouse-dinner-recreated-by-chef-david-burke/
LOCATION:The LOFT in Red Horse by David Burke\, 26 Ridge Road\, Rumson\, NJ\, 07760\, United States
CATEGORIES:dinner,Steakhouse Dinners
ATTACH;FMTTYPE=image/jpeg:https://chefdavidburke.com/wp-content/uploads/2022/04/red-horse-whats-your-beef-by-chef-david-burke-g7MpeF.tmp_.jpg
ORGANIZER;CN="Red Horse by David Burke":MAILTO:hello@redhorsebydb.com
END:VEVENT
END:VCALENDAR