BEGIN:VCALENDAR
VERSION:2.0
PRODID:-//Chef David Burke - ECPv6.13.2.1//NONSGML v1.0//EN
CALSCALE:GREGORIAN
METHOD:PUBLISH
X-ORIGINAL-URL:https://chefdavidburke.com
X-WR-CALDESC:Events for Chef David Burke
REFRESH-INTERVAL;VALUE=DURATION:PT1H
X-Robots-Tag:noindex
X-PUBLISHED-TTL:PT1H
BEGIN:VTIMEZONE
TZID:America/New_York
BEGIN:DAYLIGHT
TZOFFSETFROM:-0500
TZOFFSETTO:-0400
TZNAME:EDT
DTSTART:20220313T070000
END:DAYLIGHT
BEGIN:STANDARD
TZOFFSETFROM:-0400
TZOFFSETTO:-0500
TZNAME:EST
DTSTART:20221106T060000
END:STANDARD
END:VTIMEZONE
BEGIN:VEVENT
DTSTART;TZID=America/New_York:20220706T183000
DTEND;TZID=America/New_York:20220706T203000
DTSTAMP:20260424T221738
CREATED:20220523T195300Z
LAST-MODIFIED:20220523T200508Z
UID:10000296-1657132200-1657139400@chefdavidburke.com
SUMMARY:7/6 What’s Your Beef? The original Steakhouse Dinner\, recreated by Chef David Burke
DESCRIPTION:Wednesday\, July 6\, 2022\n6:30pm light passed appetizers | 7 pm seated dinner\nThree-course dinner\, 2 glasses Red Horse wine\n$70 per person\nTICKETS\n\nThe Loft at Red Horse by David Burke \nWhat’s your Beef? Classic Steakhouse Dinner Menu transports you back to the time of muscle cars and disco\, featuring passed hors d’oeuvres\, a 70’s style chopped salad\, a trio of New Jersey’s best beef (10oz) + 2 glasses of Red Horse wine. \nNote: Disco attire not required. \nTickets must be purchased in advance.  A  20% service charge\, including gratuity will be added to final bill. \n\nChef’s Surprise: MENU TO BE ANNOUNCED\n(sample menu from the previous What’s Your Beef? Steakhouse Dinner) \nStarters\n\nPassed Hors D’oeuvres\nHouse made pickles\nPopovers\, Cornbread + Butter\n\nCourse 1\nTableside Chopped Salad\n\nCourse 2\n\nF1 Wagyu Ribeye\nBraised Short Rib\nFlank Steak Kabobs\nWhipped Potato\nBrussels Sprouts\nPeas+Carrots\nVegetable Fried Rice\n\nDessert\nRumson Raisin Bread Pudding\nWhite Chocolate Raspberry Ice Cream
URL:https://chefdavidburke.com/event/7-6-whats-your-beef-the-original-steakhouse-dinner-recreated-by-chef-david-burke/
LOCATION:The LOFT in Red Horse by David Burke\, 26 Ridge Road\, Rumson\, NJ\, 07760\, United States
CATEGORIES:dinner,Omakase Dinners
ATTACH;FMTTYPE=image/jpeg:https://chefdavidburke.com/wp-content/uploads/2022/04/red-horse-whats-your-beef-by-chef-david-burke-g7MpeF.tmp_.jpg
ORGANIZER;CN="Red Horse by David Burke":MAILTO:hello@redhorsebydb.com
END:VEVENT
BEGIN:VEVENT
DTSTART;TZID=America/New_York:20220713T183000
DTEND;TZID=America/New_York:20220713T203000
DTSTAMP:20260424T221738
CREATED:20220622T232450Z
LAST-MODIFIED:20220622T232450Z
UID:10000303-1657737000-1657744200@chefdavidburke.com
SUMMARY:7/13 What’s Your Beef? The original Steakhouse Dinner\, recreated by Chef David Burke
DESCRIPTION:Wednesday\, July 13\, 2022\n6:30pm light passed appetizers | 7 pm seated dinner\nThree-course dinner\, 2 glasses Red Horse wine\n$70 per person\nThe Loft at Red Horse by David Burke \nWhat’s your Beef? Classic Steakhouse Dinner Menu transports you back to the time of muscle cars and disco\, featuring passed hors d’oeuvres\, a 70’s style chopped salad\, a trio of New Jersey’s best beef (10oz) + 2 glasses of Red Horse wine. \nNote: Disco attire not required. \nTickets must be purchased in advance.  A  20% service charge\, including gratuity will be added to final bill. \n\nChef’s Surprise: MENU TO BE ANNOUNCED\n(sample menu from the previous What’s Your Beef? Steakhouse Dinner) \nStarters\n\nPassed Hors D’oeuvres\nHouse made pickles\nPopovers\, Cornbread + Butter\n\nCourse 1\nTableside Chopped Salad\n\nCourse 2\n\nF1 Wagyu Ribeye\nBraised Short Rib\nFlank Steak Kabobs\nWhipped Potato\nBrussels Sprouts\nPeas+Carrots\nVegetable Fried Rice\n\nDessert\nRumson Raisin Bread Pudding\nWhite Chocolate Raspberry Ice Cream
URL:https://chefdavidburke.com/event/7-13-whats-your-beef-the-original-steakhouse-dinner-recreated-by-chef-david-burke/
LOCATION:The LOFT in Red Horse by David Burke\, 26 Ridge Road\, Rumson\, NJ\, 07760\, United States
CATEGORIES:dinner,Steakhouse Dinners
ATTACH;FMTTYPE=image/jpeg:https://chefdavidburke.com/wp-content/uploads/2022/04/red-horse-whats-your-beef-by-chef-david-burke-g7MpeF.tmp_.jpg
ORGANIZER;CN="Red Horse by David Burke":MAILTO:hello@redhorsebydb.com
END:VEVENT
BEGIN:VEVENT
DTSTART;TZID=America/New_York:20220720T183000
DTEND;TZID=America/New_York:20220720T203000
DTSTAMP:20260424T221738
CREATED:20220523T195345Z
LAST-MODIFIED:20220523T195603Z
UID:10000297-1658341800-1658349000@chefdavidburke.com
SUMMARY:7/20 What's Your Beef?
DESCRIPTION:Wednesday\, July 20\, 2022\n6:30pm light passed appetizers | 7 pm seated dinner\nThree-course dinner\, 2 glasses Red Horse wine\n$70 per person\nThe Loft at Red Horse by David Burke \nTICKETS \nWhat’s your Beef? Classic Steakhouse Dinner Menu transports you back to the time of muscle cars and disco\, featuring passed hors d’oeuvres\, a 70’s style chopped salad\, a trio of New Jersey’s best beef (10oz) + 2 glasses of Red Horse wine. \nNote: Disco attire not required. \nTickets must be purchased in advance.  A  20% service charge\, including gratuity will be added to final bill. \n\nChef’s Surprise: MENU TO BE ANNOUNCED\n(sample menu from the previous What’s Your Beef? Steakhouse Dinner) \nStarters\n\nPassed Hors D’oeuvres\nHouse made pickles\nPopovers\, Cornbread + Butter\n\nCourse 1\nTableside Chopped Salad\n\nCourse 2\n\nF1 Wagyu Ribeye\nBraised Short Rib\nFlank Steak Kabobs\nWhipped Potato\nBrussels Sprouts\nPeas+Carrots\nVegetable Fried Rice\n\nDessert\nRumson Raisin Bread Pudding\nWhite Chocolate Raspberry Ice Cream
URL:https://chefdavidburke.com/event/7-20-whats-your-beef-the-original-steakhouse-dinner-recreated-by-chef-david-burke/
LOCATION:The LOFT in Red Horse by David Burke\, 26 Ridge Road\, Rumson\, NJ\, 07760\, United States
CATEGORIES:dinner,Omakase Dinners
ATTACH;FMTTYPE=image/jpeg:https://chefdavidburke.com/wp-content/uploads/2022/04/red-horse-whats-your-beef-by-chef-david-burke-g7MpeF.tmp_.jpg
ORGANIZER;CN="Red Horse by David Burke":MAILTO:hello@redhorsebydb.com
END:VEVENT
BEGIN:VEVENT
DTSTART;TZID=America/New_York:20220727T183000
DTEND;TZID=America/New_York:20220727T203000
DTSTAMP:20260424T221738
CREATED:20220622T232713Z
LAST-MODIFIED:20220622T232841Z
UID:10000304-1658946600-1658953800@chefdavidburke.com
SUMMARY:7/27 What’s Your Beef? The original Steakhouse Dinner\, recreated by Chef David Burke
DESCRIPTION:Wednesday\, July 27\, 2022\n6:30pm light passed appetizers | 7 pm seated dinner\nThree-course dinner\, 2 glasses Red Horse wine\n$70 per person\nThe Loft at Red Horse by David Burke \nTICKETS\n \nWhat’s your Beef? Classic Steakhouse Dinner Menu transports you back to the time of muscle cars and disco\, featuring passed hors d’oeuvres\, a 70’s style chopped salad\, a trio of New Jersey’s best beef (10oz) + 2 glasses of Red Horse wine. \nNote: Disco attire not required. \nTickets must be purchased in advance.  A  20% service charge\, including gratuity will be added to final bill. \n\nChef’s Surprise: MENU TO BE ANNOUNCED\n(sample menu from the previous What’s Your Beef? Steakhouse Dinner) \nStarters\n\nPassed Hors D’oeuvres\nHouse made pickles\nPopovers\, Cornbread + Butter\n\nCourse 1\nTableside Chopped Salad\n\nCourse 2\n\nF1 Wagyu Ribeye\nBraised Short Rib\nFlank Steak Kabobs\nWhipped Potato\nBrussels Sprouts\nPeas+Carrots\nVegetable Fried Rice\n\nDessert\nRumson Raisin Bread Pudding\nWhite Chocolate Raspberry Ice Cream
URL:https://chefdavidburke.com/event/7-27-whats-your-beef-the-original-steakhouse-dinner-recreated-by-chef-david-burke/
LOCATION:The LOFT in Red Horse by David Burke\, 26 Ridge Road\, Rumson\, NJ\, 07760\, United States
CATEGORIES:dinner,Steakhouse Dinners
ATTACH;FMTTYPE=image/jpeg:https://chefdavidburke.com/wp-content/uploads/2022/04/red-horse-whats-your-beef-by-chef-david-burke-g7MpeF.tmp_.jpg
ORGANIZER;CN="Red Horse by David Burke":MAILTO:hello@redhorsebydb.com
END:VEVENT
END:VCALENDAR