BEGIN:VCALENDAR
VERSION:2.0
PRODID:-//Chef David Burke - ECPv6.13.2.1//NONSGML v1.0//EN
CALSCALE:GREGORIAN
METHOD:PUBLISH
X-WR-CALNAME:Chef David Burke
X-ORIGINAL-URL:https://chefdavidburke.com
X-WR-CALDESC:Events for Chef David Burke
REFRESH-INTERVAL;VALUE=DURATION:PT1H
X-Robots-Tag:noindex
X-PUBLISHED-TTL:PT1H
BEGIN:VTIMEZONE
TZID:America/New_York
BEGIN:DAYLIGHT
TZOFFSETFROM:-0500
TZOFFSETTO:-0400
TZNAME:EDT
DTSTART:20220313T070000
END:DAYLIGHT
BEGIN:STANDARD
TZOFFSETFROM:-0400
TZOFFSETTO:-0500
TZNAME:EST
DTSTART:20221106T060000
END:STANDARD
END:VTIMEZONE
BEGIN:VEVENT
DTSTART;TZID=America/New_York:20220601T183000
DTEND;TZID=America/New_York:20220601T203000
DTSTAMP:20260424T234317
CREATED:20220523T195213Z
LAST-MODIFIED:20220523T195806Z
UID:10000292-1654108200-1654115400@chefdavidburke.com
SUMMARY:6/1 Sushi & Steak Omakase Dinner
DESCRIPTION:Wednesday\, June 1\, 2022\n6:30pm light passed appetizers | 7 pm seated dinner\n$85 per person\nThe Loft at Red Horse \nTICKETS & MENU\n \nSushi & Steak Omakase-Style Dinner by Chef David Burke\n10 Dish Menu – Featuring Sushi & F1 Wagyu Steak\nDon’t miss this special omakase-style dinner featuring Wagyu and sushi\, a celebration of land and sea!\n \nThe cost of this very special evening is $85 per person\, plus tax.   Tickets must be purchased in advance.  A  20% service charge\, including gratuity will be added to final bill. \nChef’s Surprise: MENU TO BE ANNOUNCED\n(sample Omakase menu) \nSESAME NOODLE SALAD\npeanut\, scallions\, carrots & sprouts \nOCTOPUS\nwakame salad \nF1 WAGYU BAO\ncucumber slaw & plum sauce \nSABA MACKERAL\nscallion & sesame ginger \nPORK SOUP DUMPLING\nshrimp chip gremolata \nFRIED SOFTSHELL CRAB\nsweet eel sauce \nRAZOR CLAM\nthai curry risotto \nEEL & AVOCADO ROLL\nplantain & eel sauce \nRED ROAST RIBS & PRAWNS \nCHOCOLATE “PRETZEL BANANA”\nbanana semifreddo\, candied kumquats\, peanuts & passionfruit caramel \nDB CHEESECAKE LOLLIPOPS\nbubble gum whipped cream \nNote: Menu subject to change. Photos are examples Chefs’ creations from previous Omakase Dinners – cannot wait to see and taste what’s next! \n  \n\n\n\n				\n			\n\n\n\n				\n			\n\n\n\n				\n			\n\n 
URL:https://chefdavidburke.com/event/6-1-sushi-steak-omakase-dinner/
LOCATION:The LOFT in Red Horse by David Burke\, 26 Ridge Road\, Rumson\, NJ\, 07760\, United States
CATEGORIES:dinner,Omakase Dinners
ATTACH;FMTTYPE=image/jpeg:https://chefdavidburke.com/wp-content/uploads/2022/04/Omakase_Angus-JaFNZv.tmp_.jpg
ORGANIZER;CN="Red Horse by David Burke":MAILTO:hello@redhorsebydb.com
END:VEVENT
BEGIN:VEVENT
DTSTART;TZID=America/New_York:20220608T183000
DTEND;TZID=America/New_York:20220608T203000
DTSTAMP:20260424T234317
CREATED:20220523T195213Z
LAST-MODIFIED:20220523T195921Z
UID:10000293-1654713000-1654720200@chefdavidburke.com
SUMMARY:6/8 What’s Your Beef? The original Steakhouse Dinner\, recreated by Chef David Burke
DESCRIPTION:Wednesday\, June 8\, 2022\n6:30pm light passed appetizers | 7 pm seated dinner\nThree-course dinner\, 2 glasses Red Horse wine\n$70 per person\nThe Loft at Red Horse by David Burke \nTICKETS & MENU\n \nWhat’s your Beef? Classic Steakhouse Dinner Menu transports you back to the time of muscle cars and disco\, featuring passed hors d’oeuvres\, a 70’s style chopped salad\, a trio of New Jersey’s best beef (10oz) + 2 glasses of Red Horse wine. \nNote: Disco attire not required. \nTickets must be purchased in advance.  A  20% service charge\, including gratuity will be added to final bill. \n\nChef’s Surprise: MENU TO BE ANNOUNCED\n(sample menu from the previous What’s Your Beef? Steakhouse Dinner) \nStarters\n\nPassed Hors D’oeuvres\nHouse made pickles\nPopovers\, Cornbread + Butter\n\nCourse 1\nTableside Chopped Salad\n\nCourse 2\n\nF1 Wagyu Ribeye\nBraised Short Rib\nFlank Steak Kabobs\nWhipped Potato\nBrussels Sprouts\nPeas+Carrots\nVegetable Fried Rice\n\nDessert\nRumson Raisin Bread Pudding\nWhite Chocolate Raspberry Ice Cream
URL:https://chefdavidburke.com/event/6-8-whats-your-beef-the-original-steakhouse-dinner-recreated-by-chef-david-burke/
LOCATION:The LOFT in Red Horse by David Burke\, 26 Ridge Road\, Rumson\, NJ\, 07760\, United States
CATEGORIES:dinner,Omakase Dinners
ATTACH;FMTTYPE=image/jpeg:https://chefdavidburke.com/wp-content/uploads/2022/04/red-horse-whats-your-beef-by-chef-david-burke-g7MpeF.tmp_.jpg
ORGANIZER;CN="Red Horse by David Burke":MAILTO:hello@redhorsebydb.com
END:VEVENT
BEGIN:VEVENT
DTSTART;TZID=America/New_York:20220615T183000
DTEND;TZID=America/New_York:20220615T203000
DTSTAMP:20260424T234317
CREATED:20220523T195213Z
LAST-MODIFIED:20220523T200038Z
UID:10000294-1655317800-1655325000@chefdavidburke.com
SUMMARY:6/15 Sushi & Steak Omakase Dinner
DESCRIPTION:Wednesday\, June 15\, 2022\n6:30pm light passed appetizers | 7 pm seated dinner\n$85 per person\nThe Loft at Red Horse \nTICKETS & MENU\n \nSushi & Steak Omakase-Style Dinner by Chef David Burke\n10 Dish Menu – Featuring Sushi & F1 Wagyu Steak\nDon’t miss this special omakase-style dinner featuring Wagyu and sushi\, a celebration of land and sea!\n \nThe cost of this very special evening is $85 per person\, plus tax.   Tickets must be purchased in advance.  A  20% service charge\, including gratuity will be added to final bill. \nChef’s Surprise: MENU TO BE ANNOUNCED\n(sample Omakase menu) \nSESAME NOODLE SALAD\npeanut\, scallions\, carrots & sprouts \nOCTOPUS\nwakame salad \nF1 WAGYU BAO\ncucumber slaw & plum sauce \nSABA MACKERAL\nscallion & sesame ginger \nPORK SOUP DUMPLING\nshrimp chip gremolata \nFRIED SOFTSHELL CRAB\nsweet eel sauce \nRAZOR CLAM\nthai curry risotto \nEEL & AVOCADO ROLL\nplantain & eel sauce \nRED ROAST RIBS & PRAWNS \nCHOCOLATE “PRETZEL BANANA”\nbanana semifreddo\, candied kumquats\, peanuts & passionfruit caramel \nDB CHEESECAKE LOLLIPOPS\nbubble gum whipped cream \nNote: Menu subject to change. Photos are examples Chefs’ creations from previous Omakase Dinners – cannot wait to see and taste what’s next! \n  \n\n\n\n				\n			\n\n\n\n				\n			\n\n\n\n				\n			\n\n 
URL:https://chefdavidburke.com/event/6-15-sushi-steak-omakase-dinner/
LOCATION:The LOFT in Red Horse by David Burke\, 26 Ridge Road\, Rumson\, NJ\, 07760\, United States
CATEGORIES:dinner,Omakase Dinners
ATTACH;FMTTYPE=image/jpeg:https://chefdavidburke.com/wp-content/uploads/2022/04/Omakase_Angus-JaFNZv.tmp_.jpg
ORGANIZER;CN="Red Horse by David Burke":MAILTO:hello@redhorsebydb.com
END:VEVENT
BEGIN:VEVENT
DTSTART;TZID=America/New_York:20220616T183000
DTEND;TZID=America/New_York:20220616T213000
DTSTAMP:20260424T234317
CREATED:20220510T152401Z
LAST-MODIFIED:20220523T200947Z
UID:10000281-1655404200-1655415000@chefdavidburke.com
SUMMARY:6/16 “Wines of Willamette” 5-Course Dinner
DESCRIPTION:TICKETS \nThursday\, June 16\, 2022\n6:30pm light passed appetizers & sparkling wine upon arrival\n7 pm seated dinner\nThe Loft at Red Horse\n \n$185 per person (plus tax)\nTickets must be purchased in advance.  A  20% service charge\, including gratuity will be added to final bill. \nMENU TO BE ANNOUNCED\n 
URL:https://chefdavidburke.com/event/6-16-wines-of-willamette-5-course-dinner/
LOCATION:The LOFT in Red Horse by David Burke\, 26 Ridge Road\, Rumson\, NJ\, 07760\, United States
CATEGORIES:dinner,Omakase Dinners
ATTACH;FMTTYPE=image/jpeg:https://chefdavidburke.com/wp-content/uploads/2022/05/wines-of-willamette-five-course-dinner-gNZ8U7.tmp_.jpg
ORGANIZER;CN="Red Horse by David Burke":MAILTO:hello@redhorsebydb.com
END:VEVENT
BEGIN:VEVENT
DTSTART;TZID=America/New_York:20220622T183000
DTEND;TZID=America/New_York:20220622T203000
DTSTAMP:20260424T234317
CREATED:20220523T195259Z
LAST-MODIFIED:20220523T200149Z
UID:10000295-1655922600-1655929800@chefdavidburke.com
SUMMARY:6/22 What’s Your Beef? The original Steakhouse Dinner\, recreated by Chef David Burke
DESCRIPTION:Wednesday\, June 22\, 2022\n6:30pm light passed appetizers | 7 pm seated dinner\nThree-course dinner\, 2 glasses Red Horse wine\n$70 per person\nThe Loft at Red Horse by David Burke \nTICKETS & MENU\n \nWhat’s your Beef? Classic Steakhouse Dinner Menu transports you back to the time of muscle cars and disco\, featuring passed hors d’oeuvres\, a 70’s style chopped salad\, a trio of New Jersey’s best beef (10oz) + 2 glasses of Red Horse wine. \nNote: Disco attire not required. \nTickets must be purchased in advance.  A  20% service charge\, including gratuity will be added to final bill. \n\nChef’s Surprise: MENU TO BE ANNOUNCED\n(sample menu from the previous What’s Your Beef? Steakhouse Dinner) \nStarters\n\nPassed Hors D’oeuvres\nHouse made pickles\nPopovers\, Cornbread + Butter\n\nCourse 1\nTableside Chopped Salad\n\nCourse 2\n\nF1 Wagyu Ribeye\nBraised Short Rib\nFlank Steak Kabobs\nWhipped Potato\nBrussels Sprouts\nPeas+Carrots\nVegetable Fried Rice\n\nDessert\nRumson Raisin Bread Pudding\nWhite Chocolate Raspberry Ice Cream
URL:https://chefdavidburke.com/event/6-22-whats-your-beef-the-original-steakhouse-dinner-recreated-by-chef-david-burke/
LOCATION:The LOFT in Red Horse by David Burke\, 26 Ridge Road\, Rumson\, NJ\, 07760\, United States
CATEGORIES:dinner,Omakase Dinners
ATTACH;FMTTYPE=image/jpeg:https://chefdavidburke.com/wp-content/uploads/2022/04/red-horse-whats-your-beef-by-chef-david-burke-g7MpeF.tmp_.jpg
ORGANIZER;CN="Red Horse by David Burke":MAILTO:hello@redhorsebydb.com
END:VEVENT
BEGIN:VEVENT
DTSTART;TZID=America/New_York:20220629T183000
DTEND;TZID=America/New_York:20220629T203000
DTSTAMP:20260424T234317
CREATED:20220622T232450Z
LAST-MODIFIED:20220622T232450Z
UID:10000302-1656527400-1656534600@chefdavidburke.com
SUMMARY:6/29 What’s Your Beef? The original Steakhouse Dinner\, recreated by Chef David Burke
DESCRIPTION:Wednesday\, June 29\, 2022\n6:30pm light passed appetizers | 7 pm seated dinner\nThree-course dinner\, 2 glasses Red Horse wine\n$70 per person\nThe Loft at Red Horse by David Burke \nWhat’s your Beef? Classic Steakhouse Dinner Menu transports you back to the time of muscle cars and disco\, featuring passed hors d’oeuvres\, a 70’s style chopped salad\, a trio of New Jersey’s best beef (10oz) + 2 glasses of Red Horse wine. \nNote: Disco attire not required. \nTickets must be purchased in advance.  A  20% service charge\, including gratuity will be added to final bill. \n\nChef’s Surprise: MENU TO BE ANNOUNCED\n(sample menu from the previous What’s Your Beef? Steakhouse Dinner) \nStarters\n\nPassed Hors D’oeuvres\nHouse made pickles\nPopovers\, Cornbread + Butter\n\nCourse 1\nTableside Chopped Salad\n\nCourse 2\n\nF1 Wagyu Ribeye\nBraised Short Rib\nFlank Steak Kabobs\nWhipped Potato\nBrussels Sprouts\nPeas+Carrots\nVegetable Fried Rice\n\nDessert\nRumson Raisin Bread Pudding\nWhite Chocolate Raspberry Ice Cream
URL:https://chefdavidburke.com/event/6-29-whats-your-beef-the-original-steakhouse-dinner-recreated-by-chef-david-burke/
LOCATION:The LOFT in Red Horse by David Burke\, 26 Ridge Road\, Rumson\, NJ\, 07760\, United States
CATEGORIES:dinner,Steakhouse Dinners
ATTACH;FMTTYPE=image/jpeg:https://chefdavidburke.com/wp-content/uploads/2022/04/red-horse-whats-your-beef-by-chef-david-burke-g7MpeF.tmp_.jpg
ORGANIZER;CN="Red Horse by David Burke":MAILTO:hello@redhorsebydb.com
END:VEVENT
END:VCALENDAR