BEGIN:VCALENDAR
VERSION:2.0
PRODID:-//Chef David Burke - ECPv6.13.2.1//NONSGML v1.0//EN
CALSCALE:GREGORIAN
METHOD:PUBLISH
X-ORIGINAL-URL:https://chefdavidburke.com
X-WR-CALDESC:Events for Chef David Burke
REFRESH-INTERVAL;VALUE=DURATION:PT1H
X-Robots-Tag:noindex
X-PUBLISHED-TTL:PT1H
BEGIN:VTIMEZONE
TZID:America/New_York
BEGIN:DAYLIGHT
TZOFFSETFROM:-0500
TZOFFSETTO:-0400
TZNAME:EDT
DTSTART:20220313T070000
END:DAYLIGHT
BEGIN:STANDARD
TZOFFSETFROM:-0400
TZOFFSETTO:-0500
TZNAME:EST
DTSTART:20221106T060000
END:STANDARD
END:VTIMEZONE
BEGIN:VEVENT
DTSTART;TZID=America/New_York:20221026T183000
DTEND;TZID=America/New_York:20221026T213000
DTSTAMP:20260421T224425
CREATED:20220916T200215Z
LAST-MODIFIED:20221013T171841Z
UID:10000332-1666809000-1666819800@chefdavidburke.com
SUMMARY:FoieGone A Farewell to Foie Gras at David Burke Tavern
DESCRIPTION:FoieGone at David Burke Tavern\nA Wine Dinner to say “Farewell to Foie Gras” in NYC\nAn evening not to FoieGettabout!\nOCTOBER 26\, 2022 at 6:30pm\n$250 per person \nTICKETS \n  \nCanapes to start \n🥂 Gruet Rose\, Brut\, New Mexico\, NV \nDuck & foie gras dumplings  \nFoie gras & black truffle cromesquis \nTres Pato taco – duck leg\, foie mole\, crispy duck skin \nFoie gras lollipops port gelée  \nOyster champagne gelée caviar  \nSit-down dinner to follow \nFoie Pate tuna carpaccio persimmons \n🍷 Duckhorn Sauvignon Blanc \nFoie gras & truffle agnolotti sweet & sour duck consommé \n🍷 Caymus Cabernet\, 2022 \nF1 Wagyu Foie Gras Rossini \n🍷 Orin Swift\, Eight Years in the Desert\, Zinfandel Blend \nAssorted desserts for the table \n🍷 Graham’s 10 yr Tawny Port \nMenu is subject to change.
URL:https://chefdavidburke.com/event/foiegone-a-farewell-to-foie-gras-at-david-burke-tavern/
LOCATION:David Burke Tavern\, 135 E. 62nd Street\, New York City\, NY\, 10065\, United States
CATEGORIES:DB Tavern Wine Dinners
ATTACH;FMTTYPE=image/jpeg:https://chefdavidburke.com/wp-content/uploads/2022/09/10-26-foie-gone-david-burke-tavern-F1post2.jpg
ORGANIZER;CN="David Burke Tavern":MAILTO:info@davidburketavern.com
END:VEVENT
END:VCALENDAR