BEGIN:VCALENDAR
VERSION:2.0
PRODID:-//Chef David Burke - ECPv6.13.2.1//NONSGML v1.0//EN
CALSCALE:GREGORIAN
METHOD:PUBLISH
X-ORIGINAL-URL:https://chefdavidburke.com
X-WR-CALDESC:Events for Chef David Burke
REFRESH-INTERVAL;VALUE=DURATION:PT1H
X-Robots-Tag:noindex
X-PUBLISHED-TTL:PT1H
BEGIN:VTIMEZONE
TZID:America/New_York
BEGIN:DAYLIGHT
TZOFFSETFROM:-0500
TZOFFSETTO:-0400
TZNAME:EDT
DTSTART:20230312T070000
END:DAYLIGHT
BEGIN:STANDARD
TZOFFSETFROM:-0400
TZOFFSETTO:-0500
TZNAME:EST
DTSTART:20231105T060000
END:STANDARD
END:VTIMEZONE
BEGIN:VEVENT
DTSTART;TZID=America/New_York:20230419T183000
DTEND;TZID=America/New_York:20230419T213000
DTSTAMP:20260421T055832
CREATED:20230415T003053Z
LAST-MODIFIED:20230415T003346Z
UID:10000414-1681929000-1681939800@chefdavidburke.com
SUMMARY:4/19 Knuttel Family x David Burke Tavern Wine Dinner
DESCRIPTION:Knuttel Family x David Burke Tavern\n5-Course Wine Pairing Dinner\n6:30pm seated dinner\n$125 per person (+tax & service)\n\nTICKETS \n \nExperience Knuttel Family Wines from Sonoma\, California paired with a luxurious five-course dinner menu by Chef David Burke. Five wines will be poured\, made from different grape varietals with sommelier presentations at each course. \n\n“It’s like having dinner in my home… Intimate\, fun\, relaxing and delicious! Great connections\, Q & A session and some laughs!”\n– Chef David Burke\n\n\n \n \n\n \n\n 
URL:https://chefdavidburke.com/event/4-19-knuttel-family-x-david-burke-tavern-wine-dinner/
LOCATION:David Burke Tavern Lounge\, 135 E. 62ND STREET\, NEW YORK\, NY\, 10065\, United States
CATEGORIES:DB Tavern Wine Dinners
ATTACH;FMTTYPE=image/jpeg:https://chefdavidburke.com/wp-content/uploads/2023/04/Knuttel-Family-x-tavern-invite-125i-MOigJS.tmp_.jpg
ORGANIZER;CN="David Burke Tavern":MAILTO:info@davidburketavern.com
END:VEVENT
END:VCALENDAR