BEGIN:VCALENDAR
VERSION:2.0
PRODID:-//Chef David Burke - ECPv6.13.2.1//NONSGML v1.0//EN
CALSCALE:GREGORIAN
METHOD:PUBLISH
X-WR-CALNAME:Chef David Burke
X-ORIGINAL-URL:https://chefdavidburke.com
X-WR-CALDESC:Events for Chef David Burke
REFRESH-INTERVAL;VALUE=DURATION:PT1H
X-Robots-Tag:noindex
X-PUBLISHED-TTL:PT1H
BEGIN:VTIMEZONE
TZID:America/New_York
BEGIN:DAYLIGHT
TZOFFSETFROM:-0500
TZOFFSETTO:-0400
TZNAME:EDT
DTSTART:20240310T070000
END:DAYLIGHT
BEGIN:STANDARD
TZOFFSETFROM:-0400
TZOFFSETTO:-0500
TZNAME:EST
DTSTART:20241103T060000
END:STANDARD
END:VTIMEZONE
BEGIN:VEVENT
DTSTART;TZID=America/New_York:20240227T190000
DTEND;TZID=America/New_York:20240227T210000
DTSTAMP:20260419T091014
CREATED:20240224T155739Z
LAST-MODIFIED:20240224T155739Z
UID:10000536-1709060400-1709067600@chefdavidburke.com
SUMMARY:The GOAT by David Burke 2nd Anniversary & Chef David Burke’s Birthday Bingo!
DESCRIPTION:Join us Tuesday\, February 27th\nin the Chandelier Loft\nBingo presented by Genopalooza Productions! \n3-course $45 menu \nCelebrating with some fun – Burgundy\, Beef & Bingo and Dinner – it’s Chef David Burke’s Birthday! \nAnyone else celebrating a birthday this week at Bingo? \nPlease call ahead and get their / your name on the cake with Chef Burke. \nHave Fun\, and Win Prizes!\nPlease arrive by 6:45 pm \nBINGO RESERVATIONS \n\nBurgundy\, Beef* & Bingo Night Menu Coming Soon\n* Chicken / Vegetarian Choices Available
URL:https://chefdavidburke.com/event/the-goat-by-david-burke-2nd-anniversary-chef-david-burkes-birthday-bingo/
LOCATION:THE GOAT by David Burke\, 1411 Route 36\, Union Beach\, NJ\, 07735\, United States
CATEGORIES:bingo night
ATTACH;FMTTYPE=image/jpeg:https://chefdavidburke.com/wp-content/uploads/2024/02/TheGoat_CDB_BirthdayBingo2-H6dLzi.tmp_.jpg
END:VEVENT
END:VCALENDAR