BEGIN:VCALENDAR
VERSION:2.0
PRODID:-//Chef David Burke - ECPv6.13.2.1//NONSGML v1.0//EN
CALSCALE:GREGORIAN
METHOD:PUBLISH
X-WR-CALNAME:Chef David Burke
X-ORIGINAL-URL:https://chefdavidburke.com
X-WR-CALDESC:Events for Chef David Burke
REFRESH-INTERVAL;VALUE=DURATION:PT1H
X-Robots-Tag:noindex
X-PUBLISHED-TTL:PT1H
BEGIN:VTIMEZONE
TZID:America/New_York
BEGIN:DAYLIGHT
TZOFFSETFROM:-0500
TZOFFSETTO:-0400
TZNAME:EDT
DTSTART:20260308T070000
END:DAYLIGHT
BEGIN:STANDARD
TZOFFSETFROM:-0400
TZOFFSETTO:-0500
TZNAME:EST
DTSTART:20261101T060000
END:STANDARD
END:VTIMEZONE
BEGIN:VEVENT
DTSTART;TZID=America/New_York:20260422T183000
DTEND;TZID=America/New_York:20260422T210000
DTSTAMP:20260422T063841
CREATED:20260416T204551Z
LAST-MODIFIED:20260416T204940Z
UID:10000895-1776882600-1776891600@chefdavidburke.com
SUMMARY:4/22 OMAKASE Celebration with Chef David Burke and Sushi Master Chef Choi at Red Horse - RUMSON\, NJ
DESCRIPTION:Ten-Course Omakase – Includes one glass of Rosé\n$95 per person ++ \nTICKETS \nWednesday April 22 at 6:30pm
URL:https://chefdavidburke.com/event/omakase-celebration-with-chef-david-burke-and-sushi-master-chef-choi/
LOCATION:Red Horse by David Burke\, 26 Ridge Road\, Rumson\, NJ\, 07760\, United States
CATEGORIES:Chef David Burke,Omakase,wine dinner
ATTACH;FMTTYPE=image/jpeg:https://chefdavidburke.com/wp-content/uploads/2026/04/omakase-2026-v2-HhWO6t.tmp_.jpg
ORGANIZER;CN="Red Horse by David Burke":MAILTO:hello@redhorsebydb.com
END:VEVENT
END:VCALENDAR